
BEGIN:VCALENDAR
PRODID:KCSoul.com generated
VERSION:1.0
BEGIN:VEVENT
DTSTART:20251011T160000Z
DTEND:20251012T053000Z
LOCATION: Prairie Village , KS 
DESCRIPTION:<p>is your financial house in order? &nbsp;Join us for this powerful seminar to help you get your financial house in order.&nbsp;&nbsp;In this session, you&rsquo;ll gain powerful insights and methods to create a strong financial foundation that positions you for financial success in today&rsquo;s economic environment. &nbsp;</p>

<p>The first 50 peoiple to register will receive a free money guide: &ldquo;How Money&nbsp;&nbsp;Works&quot;<span style="color:rgb(254, 254, 254)">success in today&rsquo;s economic environment.</span></p>
=0D=0A=0D=0ADownloaded from www.KCSoul.com
SUMMARY:Financial Wealth Seminar
END:VEVENT
END:VCALENDAR
